BEGIN:VCALENDAR
VERSION:2.0
PRODID:-//Squarespace Inc/Squarespace 6//v6//EN
BEGIN:VEVENT
UID:57a2fbb29f74561d1054de33@squarespace.com
DTSTAMP:20160804T082736Z
DTSTART:20161001T220000Z
DTEND:20161003T020000Z
SUMMARY:KINSTON PARK - HALLOWEEN
GEO:-35.037679;138.517473
LOCATION:KINSGSTON PARK\, Australia
END:VEVENT
END:VCALENDAR
