BEGIN:VCALENDAR
VERSION:2.0
PRODID:-//Squarespace Inc/Squarespace 6//v6//EN
BEGIN:VEVENT
UID:57a2d20be6f2e10d061916e0@squarespace.com
DTSTAMP:20160804T052752Z
DTSTART:20160804T053000Z
DTEND:20160804T063000Z
SUMMARY:Valla Beach
GEO:-30.589246;153.007748
LOCATION:valla beach\, australia
END:VEVENT
END:VCALENDAR
