BEGIN:VCALENDAR
VERSION:2.0
PRODID:-//Squarespace Inc/Squarespace 6//v6//EN
BEGIN:VEVENT
UID:57a2fab7197aeab65e33d47f@squarespace.com
DTSTAMP:20160804T082138Z
DTSTART:20160908T083000Z
DTEND:20160908T093000Z
SUMMARY:Scottys Garage
GEO:-27.627841;152.168857
LOCATION:Lockyer Valley\, Australia
END:VEVENT
END:VCALENDAR
